BEGIN:VCALENDAR
VERSION:2.0
PRODID:-//Tukios.com/
BEGIN:VEVENT
UID:ba2bc167-af0a-4297-808b-a5234c768d58@www.youngfamilyfuneralhome.com
DTSTAMP:20260421T005611Z
DTSTART:20260424T170000Z
DTEND:20260424T180000Z
SUMMARY:Funeral Service
DESCRIPTION:
URL:https://www.youngfamilyfuneralhome.com/obituaries/madilyn-hawn
LOCATION: 222 South State Street  Kendallville IN 46755
GEO:41.4420174;-85.264276
END:VEVENT
END:VCALENDAR