BEGIN:VCALENDAR
VERSION:2.0
PRODID:-//Tukios.com/
BEGIN:VEVENT
UID:41b896aa-f84d-4d81-af4f-b939903defb3@www.youngfamilyfuneralhome.com
DTSTAMP:20260421T005733Z
DTSTART:20260424T160000Z
DTEND:20260424T170000Z
SUMMARY:Visitation
DESCRIPTION:
URL:https://www.youngfamilyfuneralhome.com/obituaries/madilyn-hawn
LOCATION: 222 South State Street  Kendallville IN 46755
GEO:41.4420174;-85.264276
END:VEVENT
END:VCALENDAR