BEGIN:VCALENDAR
VERSION:2.0
PRODID:-//Tukios.com/
BEGIN:VEVENT
UID:3c1f2620-5848-4e6f-8e66-3dbcb4ede484@www.youngfamilyfuneralhome.com
DTSTAMP:20260421T004824Z
DTSTART:20260423T190000Z
DTEND:20260423T230000Z
SUMMARY:Visitation
DESCRIPTION:
URL:https://www.youngfamilyfuneralhome.com/obituaries/madilyn-hawn
LOCATION:Young Family Funeral Home 222 South State Street  Kendallville 
	IN 46755
GEO:41.4420174;-85.264276
END:VEVENT
END:VCALENDAR