BEGIN:VCALENDAR
VERSION:2.0
PRODID:-//Tukios.com/
BEGIN:VEVENT
UID:a4ff4cd2-b164-4de7-9d0d-cfb3fe49a5f1@www.youngfamilyfuneralhome.com
DTSTAMP:20260421T215319Z
DTSTART:20260427T160000Z
DTEND:20260427T170000Z
SUMMARY:Graveside Service
DESCRIPTION:
URL:https://www.youngfamilyfuneralhome.com/obituaries/lawrence-smith
LOCATION:Elm Ridge Memorial Park 4600 West Kilgore Avenue  Muncie IN 
	47304
GEO:40.1822275;-85.4401311
END:VEVENT
END:VCALENDAR