BEGIN:VCALENDAR
VERSION:2.0
PRODID:-//Tukios.com/
BEGIN:VEVENT
UID:3c8022af-6a5e-403a-ba7c-f22e562b393c@www.youngfamilyfuneralhome.com
DTSTAMP:20260421T215100Z
DTSTART:20260426T180000Z
DTEND:20260426T200000Z
SUMMARY:Visitation
DESCRIPTION:
URL:https://www.youngfamilyfuneralhome.com/obituaries/lawrence-smith
LOCATION: 100 Cemetery St  Wolcottville IN 46795
GEO:41.5301937;-85.3667099
END:VEVENT
END:VCALENDAR